BEGIN:VCALENDAR
VERSION:2.0
PRODID:-//ChamberMaster//Event Calendar 2.0//EN
METHOD:PUBLISH
X-PUBLISHED-TTL:P3D
REFRESH-INTERVAL:P3D
CALSCALE:GREGORIAN
BEGIN:VEVENT
DTSTART:20260502T140000Z
DTEND:20260502T170000Z
X-MICROSOFT-CDO-ALLDAYEVENT:FALSE
SUMMARY:PAWS Animal Shelter Donation Drive – City of Purcell
DESCRIPTION:Help support our local animal shelter by participating in the PAWS Animal Shelter Donation Drive hosted by the City of Purcell. This community give-back event is a great opportunity to make a difference for animals in need by donating essential supplies and monetary contributions.\n\n  Date: Saturday\, May 2\, 2026\n\n  Time: 9:00 AM   12:00 PM\n\n  Location: Purcell Police Department (Grant Street)\n\nDonations will support PAWS\, helping provide care\, comfort\, and resources for local animals. This is a simple\, drive-up style event just follow posted signs to the donation tent located in the southeast corner of the parking lot\, and staff will assist with collecting your items.\n\n  Donations Accepted:\n\n  Pet food (dog & cat)\n\n  Blankets and towels\n\n  Toys and supplies\n\n  Cleaning supplies\n\n  Monetary donations\n\n  Cash and check donations are welcome (checks payable to PAWS).\n\nEvery donation big or small makes a difference. Join us in giving back to our furry friends and supporting a great cause in the Heart of Oklahoma!
X-ALT-DESC;FMTTYPE=text/html:<div class="x11i5rnm xat24cr x1mh8g0r x1vvkbs xdj266r x126k92a" style="margin: 0px\; white-space: pre-wrap\; overflow-wrap: break-word\; font-family: &quot\;Segoe UI Historic&quot\;\, &quot\;Segoe UI&quot\;\, Helvetica\, Arial\, sans-serif\; color: rgb(5\, 5\, 5)\; font-size: 15px\;">\n<div dir="auto" style="font-family: inherit\;">\n<p data-end="491" data-start="210" style="caret-color: rgb(255\, 255\, 255)\; color: rgb(255\, 255\, 255)\;"><span style="color:#000000\;">Help support our local animal shelter by participating in the PAWS Animal Shelter Donation Drive hosted by the City of Purcell. This community give-back event is a great opportunity to make a difference for animals in need by donating essential supplies and monetary contributions.</span></p>\n\n<p data-end="622" data-start="493" style="caret-color: rgb(255\, 255\, 255)\; color: rgb(255\, 255\, 255)\;"><span style="color:#000000\;">&#128197\;&nbsp\;<strong data-end="505" data-start="496">Date:</strong>&nbsp\;Saturday\, May 2\, 2026<br data-end="530" data-start="527" />\n&#9200\;&nbsp\;<strong data-end="541" data-start="532">Time:</strong>&nbsp\;9:00 AM &ndash\; 12:00 PM<br data-end="563" data-start="560" />\n&#128205\;&nbsp\;<strong data-end="579" data-start="566">Location:</strong>&nbsp\;Purcell Police Department (Grant Street)</span></p>\n\n<p data-end="907" data-start="624" style="caret-color: rgb(255\, 255\, 255)\; color: rgb(255\, 255\, 255)\;"><span style="color:#000000\;">Donations will support&nbsp\;<strong data-end="655" data-start="647">PAWS</strong>\, helping provide care\, comfort\, and resources for local animals. This is a simple\, drive-up style event&mdash\;just follow posted signs to the donation tent located in the southeast corner of the parking lot\, and staff will assist with collecting your items.</span></p>\n\n<p data-end="1053" data-start="909" style="caret-color: rgb(255\, 255\, 255)\; color: rgb(255\, 255\, 255)\;"><span style="color:#000000\;">&#128062\;&nbsp\;<strong data-end="935" data-start="912">Donations Accepted:</strong><br data-end="938" data-start="935" />\n&bull\; Pet food (dog &amp\; cat)<br data-end="963" data-start="960" />\n&bull\; Blankets and towels<br data-end="987" data-start="984" />\n&bull\; Toys and supplies<br data-end="1009" data-start="1006" />\n&bull\; Cleaning supplies<br data-end="1031" data-start="1028" />\n&bull\; Monetary donations</span></p>\n\n<p data-end="1122" data-start="1055" style="caret-color: rgb(255\, 255\, 255)\; color: rgb(255\, 255\, 255)\;"><span style="color:#000000\;">&#128181\; Cash and check donations are welcome&nbsp\;<em data-end="1121" data-start="1095">(checks payable to PAWS)</em>.</span></p>\n\n<p data-end="1270" data-start="1124" style="caret-color: rgb(255\, 255\, 255)\; color: rgb(255\, 255\, 255)\;"><span style="color:#000000\;">Every donation&mdash\;big or small&mdash\;makes a difference. Join us in giving back to our furry friends and supporting a great cause in the Heart of Oklahoma!</span></p>\n</div>\n</div>\n\n<div class="x11i5rnm xat24cr x1mh8g0r x1vvkbs xtlvy1s x126k92a" style="margin: 0.5em 0px 0px\; white-space: pre-wrap\; overflow-wrap: break-word\; font-family: &quot\;Segoe UI Historic&quot\;\, &quot\;Segoe UI&quot\;\, Helvetica\, Arial\, sans-serif\; color: rgb(5\, 5\, 5)\; font-size: 15px\;">\n<div dir="auto" style="font-family: inherit\;">&nbsp\;</div>\n</div>\n
LOCATION:Purcell Police Department on Grant Street in Purcell\, Oklahoma. Donation tent will be located in the southeast corner of the parking lot follow posted signs upon arrival.
UID:e.2137.4794
SEQUENCE:3
DTSTAMP:20260421T023941Z
URL:https://members.heartofokchamber.com/events/details/paws-animal-shelter-donation-drive-city-of-purcell-4794
END:VEVENT

END:VCALENDAR
