BEGIN:VCALENDAR
VERSION:2.0
PRODID:-//ChamberMaster//Event Calendar 2.0//EN
METHOD:PUBLISH
X-PUBLISHED-TTL:P3D
REFRESH-INTERVAL:P3D
CALSCALE:GREGORIAN
BEGIN:VEVENT
DTSTART:20260509T160000Z
DTEND:20260509T160000Z
X-MICROSOFT-CDO-ALLDAYEVENT:FALSE
SUMMARY:Toby Jam Music Festival 2026 – Downtown Purcell
DESCRIPTION:Join us for Toby Jam Music Festival 2026\, presented by Belle Starr\, in downtown Purcell\, Oklahoma! This exciting\, family-friendly event features live music all day\, food trucks\, games\, auctions\, and more all while supporting a meaningful cause.\n\n  Date: Saturday\, May 9\, 2026\n\n  Time: Starting at 11:00 AM\n\n  Location: 126 W Main Street\, Downtown Purcell\n\nEnjoy a full day of entertainment with live music performances\, a fun and welcoming atmosphere\, and activities for all ages including cornhole and auctions.\n\nThis event is proudly raising money for OK Kids Korral\, a program of the Toby Keith Foundation that provides a safe\, comfortable place for children with cancer and their families to stay while receiving treatment.\n\nCome out\, have a great time\, and support a great cause right here in the Heart of Oklahoma!
X-ALT-DESC;FMTTYPE=text/html:<p data-end="423" data-start="179" style="caret-color: rgb(255\, 255\, 255)\; color: rgb(255\, 255\, 255)\;"><span style="color:#000000\;">Join us for Toby Jam Music Festival 2026\, presented by Belle Starr\, in downtown Purcell\, Oklahoma! This exciting\, family-friendly event features live music all day\, food trucks\, games\, auctions\, and more&mdash\;all while supporting a meaningful cause.</span></p>\n\n<p data-end="551" data-start="425" style="caret-color: rgb(255\, 255\, 255)\; color: rgb(255\, 255\, 255)\;"><span style="color:#000000\;">&#128197\;&nbsp\;<strong data-end="437" data-start="428">Date:</strong>&nbsp\;Saturday\, May 9\, 2026<br data-end="462" data-start="459" />\n&#9200\;&nbsp\;<strong data-end="473" data-start="464">Time:</strong>&nbsp\;Starting at 11:00 AM<br data-end="497" data-start="494" />\n&#128205\;&nbsp\;<strong data-end="513" data-start="500">Location:</strong>&nbsp\;126 W Main Street\, Downtown Purcell</span></p>\n\n<p data-end="709" data-start="553" style="caret-color: rgb(255\, 255\, 255)\; color: rgb(255\, 255\, 255)\;"><span style="color:#000000\;">Enjoy a full day of entertainment with live music performances\, a fun and welcoming atmosphere\, and activities for all ages including cornhole and auctions.</span></p>\n\n<p data-end="928" data-start="711" style="caret-color: rgb(255\, 255\, 255)\; color: rgb(255\, 255\, 255)\;"><span style="color:#000000\;">This event is proudly raising money for&nbsp\;<strong data-end="769" data-start="751">OK Kids Korral</strong>\, a program of the Toby Keith Foundation that provides a safe\, comfortable place for children with cancer and their families to stay while receiving treatment.</span></p>\n\n<p data-end="1021" data-start="930" style="caret-color: rgb(255\, 255\, 255)\; color: rgb(255\, 255\, 255)\;"><span style="color:#000000\;">Come out\, have a great time\, and support a great cause right here in the Heart of Oklahoma!</span></p>\n
LOCATION:126 W Main Street in downtown Purcell\, Oklahoma. Located in the heart of downtown with easy access to local shops\, restaurants\, and parking.
UID:e.2137.4793
SEQUENCE:3
DTSTAMP:20260423T160751Z
URL:http://members.heartofokchamber.com/events/details/toby-jam-music-festival-2026-downtown-purcell-4793
END:VEVENT

END:VCALENDAR
