BEGIN:VCALENDAR
VERSION:2.0
PRODID:-//ChamberMaster//Event Calendar 2.0//EN
METHOD:PUBLISH
X-PUBLISHED-TTL:P3D
REFRESH-INTERVAL:P3D
CALSCALE:GREGORIAN
BEGIN:VEVENT
DTSTART:20251031T210000Z
DTEND:20251031T210000Z
X-MICROSOFT-CDO-ALLDAYEVENT:FALSE
SUMMARY:Knot Again Bar & Grill Halloween Party
DESCRIPTION:Beer as cold as death\, food as warm as blood\, and live music to raise the unliving! Doors open at 4:00 PM with Ricky Ray performing at 7:00 PM.
X-ALT-DESC;FMTTYPE=text/html:<span style="caret-color: rgb(0\, 0\, 0)\; color: rgb(0\, 0\, 0)\; font-size: medium\;">Beer as cold as death\, food as warm as blood\, and live music to raise the unliving! Doors open at 4:00 PM with&nbsp\;</span><strong data-end="2536" data-start="2523" style="caret-color: rgb(0\, 0\, 0)\; color: rgb(0\, 0\, 0)\;">Ricky Ray</strong><span style="caret-color: rgb(0\, 0\, 0)\; color: rgb(0\, 0\, 0)\; font-size: medium\;">&nbsp\;performing at 7:00 PM.</span>
LOCATION:
UID:e.2137.4735
SEQUENCE:3
DTSTAMP:20260423T230829Z
URL:http://members.heartofokchamber.com/events/details/knot-again-bar-grill-halloween-party-4735
END:VEVENT

END:VCALENDAR
