BEGIN:VCALENDAR
VERSION:2.0
PRODID:-//ChamberMaster//Event Calendar 2.0//EN
METHOD:PUBLISH
X-PUBLISHED-TTL:P3D
REFRESH-INTERVAL:P3D
CALSCALE:GREGORIAN
BEGIN:VEVENT
DTSTART;VALUE=DATE:20260321
DTEND;VALUE=DATE:20260322
TRANSP:TRANSPARENT
X-MICROSOFT-CDO-ALLDAYEVENT:TRUE
SUMMARY:Heartland Hammer OKXC MTB Race Series #2
DESCRIPTION:Heartland Hammer Mountain Bike Race | Purcell Lake\n\nThe Heartland Hammer Mountain Bike Race returns to Purcell Lake Trails in Purcell\, Oklahoma on Saturday\, March 21\, 2026\, bringing riders from across the region to compete in the Oklahoma XC Racing Series. Hosted at the scenic trail system at Purcell Lake\, this exciting cross-country mountain bike race offers challenging terrain and fast-flowing trails for riders of all skill levels.\n\nRacers can compete in a variety of categories including Expert\, Sport\, Beginner\, Juniors\, and Kids\, making this event a great opportunity for both experienced mountain bikers and families to participate. The race attracts riders from across Oklahoma and the surrounding states\, showcasing the growing mountain biking community in the Heart of Oklahoma.\n\nParticipants and spectators alike can enjoy a full day of outdoor recreation and competitive racing while experiencing the beautiful Purcell Lake trail system.\n\nRiders can register online through the Oklahoma XC Racing Series website at www.okxcseries.com. For race or course questions\, contact Trail Boss Scott at scott.nativesoil@gmail.com.\n\nLocal businesses interested in supporting outdoor recreation and community events still have opportunities to become event sponsors.\n\nCome experience an exciting day of mountain biking and competition at Purcell Lake in the Heart of Oklahoma.
X-ALT-DESC;FMTTYPE=text/html:<h2 data-end="262" data-section-id="1jyem8z" data-start="209" style="caret-color: rgb(255\, 255\, 255)\; color: rgb(255\, 255\, 255)\;"><span style="color:#000000\;">Heartland Hammer Mountain Bike Race | Purcell Lake</span></h2>\n\n<p data-end="661" data-start="264" style="caret-color: rgb(255\, 255\, 255)\; color: rgb(255\, 255\, 255)\;"><span style="color:#000000\;">The&nbsp\;<strong data-end="307" data-start="268">Heartland Hammer Mountain Bike Race</strong>&nbsp\;returns to&nbsp\;<strong data-end="391" data-start="319">Purcell Lake Trails in Purcell\, Oklahoma on Saturday\, March 21\, 2026</strong>\, bringing riders from across the region to compete in the&nbsp\;<strong data-end="479" data-start="450">Oklahoma XC Racing Series</strong>. Hosted at the scenic trail system at Purcell Lake\, this exciting cross-country mountain bike race offers challenging terrain and fast-flowing trails for riders of all skill levels.</span></p>\n\n<p data-end="1019" data-start="663" style="caret-color: rgb(255\, 255\, 255)\; color: rgb(255\, 255\, 255)\;"><span style="color:#000000\;">Racers can compete in a variety of categories including&nbsp\;<strong data-end="765" data-start="719">Expert\, Sport\, Beginner\, Juniors\, and Kids</strong>\, making this event a great opportunity for both experienced mountain bikers and families to participate. The race attracts riders from across Oklahoma and the surrounding states\, showcasing the growing mountain biking community in the Heart of Oklahoma.</span></p>\n\n<p data-end="1180" data-start="1021" style="caret-color: rgb(255\, 255\, 255)\; color: rgb(255\, 255\, 255)\;"><span style="color:#000000\;">Participants and spectators alike can enjoy a full day of outdoor recreation and competitive racing while experiencing the beautiful Purcell Lake trail system.</span></p>\n\n<p data-end="1375" data-start="1182" style="caret-color: rgb(255\, 255\, 255)\; color: rgb(255\, 255\, 255)\;"><span style="color:#000000\;">Riders can register online through the&nbsp\;<strong data-end="1250" data-start="1221">Oklahoma XC Racing Series</strong>&nbsp\;website at</span>&nbsp\;<strong data-end="1284" data-start="1262" style="caret-color: rgb(255\, 255\, 255)\; color: rgb(255\, 255\, 255)\;"><a class="decorated-link" data-end="1282" data-start="1264" href="http://www.okxcseries.com/" rel="noopener" target="_new">www.okxcseries.com</a></strong><span style="color:#000000\;">.</span> <span style="color:#000000\;">For race or course questions\, contact Trail Boss Scott at&nbsp\;</span><strong data-end="1374" data-start="1344" style="caret-color: rgb(255\, 255\, 255)\; color: rgb(255\, 255\, 255)\;"><a class="decorated-link cursor-pointer" data-end="1372" data-start="1346" rel="noopener">scott.nativesoil@gmail.com</a></strong><span style="color:#000000\;">.</span></p>\n\n<p data-end="1509" data-start="1377" style="caret-color: rgb(255\, 255\, 255)\; color: rgb(255\, 255\, 255)\;"><span style="color:#000000\;">Local businesses interested in supporting outdoor recreation and community events still have opportunities to become event sponsors.</span></p>\n\n<p data-end="1623" data-start="1511" style="caret-color: rgb(255\, 255\, 255)\; color: rgb(255\, 255\, 255)\;"><span style="color:#000000\;">Come experience an exciting day of mountain biking and competition at&nbsp\;<strong data-end="1622" data-start="1581">Purcell Lake in the Heart of Oklahoma</strong>.</span></p>\n
LOCATION:Purcel Lake Mountain Bike Trail
UID:e.2137.4780
SEQUENCE:3
DTSTAMP:20260423T161953Z
URL:http://members.heartofokchamber.com/events/details/heartland-hammer-okxc-mtb-race-series-2-4780
END:VEVENT

END:VCALENDAR
