BEGIN:VCALENDAR
VERSION:2.0
PRODID:-//ChamberMaster//Event Calendar 2.0//EN
METHOD:PUBLISH
X-PUBLISHED-TTL:P3D
REFRESH-INTERVAL:P3D
CALSCALE:GREGORIAN
BEGIN:VEVENT
DTSTART:20251106T173000Z
DTEND:20251106T173000Z
X-MICROSOFT-CDO-ALLDAYEVENT:FALSE
SUMMARY:Chamber Ribbon Cutting for First United Bank's Remodel Celebration
DESCRIPTION:
X-ALT-DESC;FMTTYPE=text/html:
LOCATION:
UID:e.2137.4736
SEQUENCE:3
DTSTAMP:20260423T214247Z
URL:http://members.heartofokchamber.com/events/details/chamber-ribbon-cutting-for-first-united-bank-s-remodel-celebration-4736
END:VEVENT

END:VCALENDAR
