BEGIN:VCALENDAR
VERSION:2.0
PRODID:-//ChamberMaster//Event Calendar 2.0//EN
METHOD:PUBLISH
X-PUBLISHED-TTL:P3D
REFRESH-INTERVAL:P3D
CALSCALE:GREGORIAN
BEGIN:VEVENT
DTSTART:20240615T120000Z
DTEND:20240615T153000Z
X-MICROSOFT-CDO-ALLDAYEVENT:FALSE
SUMMARY:Breakfast in Washington\, OK!
DESCRIPTION:The Washington Masonic Temple along with the Heart of Oklahoma Kiwanis are sponsoring their annual Breakfast in Washington\, proceeds go to support the Children's Health Foundation which serves all 77 counties in Oklahoma. Please come and help us raise money for this cause!
X-ALT-DESC;FMTTYPE=text/html:<span style="caret-color: rgb(5\, 5\, 5)\; color: rgb(5\, 5\, 5)\; font-family: system-ui\, -apple-system\, BlinkMacSystemFont\, &quot\;.SFNSText-Regular&quot\;\, sans-serif\; font-size: 15px\; white-space: pre-wrap\;">The Washington Masonic Temple along with the Heart of Oklahoma Kiwanis are sponsoring their annual Breakfast in Washington\, proceeds go to support the Children&rsquo\;s Health Foundation which serves all 77 counties in Oklahoma. Please come and help us raise money for this cause!</span>
LOCATION:
UID:e.2137.3640
SEQUENCE:3
DTSTAMP:20260424T211128Z
URL:http://members.heartofokchamber.com/events/details/breakfast-in-washington-ok-3640
END:VEVENT

END:VCALENDAR
